BEGIN:VCALENDAR
VERSION:2.0
PRODID:-//hacksw/handcal//NONSGML v1.0//EN
BEGIN:VEVENT
SUMMARY:SAMOIS Assemblee Generale ANFA 2025
UID:9b11fe84-b573-40bc-a33c-30af286b51d9
DTSTART:20251213T160000Z
DTEND:20251213T180000Z
LOCATION:Localisation   
CATEGORIES:Administratif
STATUS:
DESCRIPTION:<div><span style="font-size:small;"><span
 style="color:#222222;"><span style="font-family:Arial, Helvetica,
 sans-serif;"><span style="font-style:normal;"><span><span
 style="font-weight:400;"><span><span
 style="background-color:#ffffff;"><span><span><span><font
 size="4">L<span class="gmail_default" style="font-size:small;"><span
 style="font-family:'comic sans ms', sans-serif;"><span
 style="color:#000000;">'assemblee General de votre Club prefere se
 tiendra Samedi 13 decembre a 17h00, au
 CLUB,</span></span></span></font></span></span></span></span></span></span></span></span></span></span></span></div>
 
 <div><span
 style="font-size:small;"><span style="color:#222222;"><span
 style="font-family:Arial, Helvetica, sans-serif;"><span
 style="font-style:normal;"><span><span
 style="font-weight:400;"><span><span
 style="background-color:#ffffff;"><span><span><span><font
 size="4"><span class="gmail_default" style="font-size:small;"><span
 style="font-family:'comic sans ms', sans-serif;"><span
 style="color:#000000;">C'est important pour la vie de notre
 association, si vous ne pouvez pas etre present, faites vous
 representer en remplissant le pouvoir en piece jointe, et en me
 l'envoyant ou en le deposant dans la boite prevue a cet effet au
 club.</span></span></span></font></span></span></span></span></span></span></span></span></span></span></span></div>
 
 <div> </div>
 
 <div><span
 style="font-size:small;"><span style="color:#222222;"><span
 style="font-family:Arial, Helvetica, sans-serif;"><span
 style="font-style:normal;"><span><span
 style="font-weight:400;"><span><span
 style="background-color:#ffffff;"><span><span><span><font
 size="4"><span class="gmail_default" style="font-size:small;"><span
 style="font-family:'comic sans ms', sans-serif;"><span
 style="color:#000000;">A l'issue de la reunion, nous prolongeons la
 soiree par un "AFTER" (type auberge Espagnole.... chacun apporte
 quelque
 chose....)</span></span></span></font></span></span></span></span></span></span></span></span></span></span></span></div>
 
 <div><span
 style="font-size:small;"><span style="color:#222222;"><span
 style="font-family:Arial, Helvetica, sans-serif;"><span
 style="font-style:normal;"><span><span
 style="font-weight:400;"><span><span
 style="background-color:#ffffff;"><span><span><span><font
 size="4"><span class="gmail_default" style="font-size:small;"><span
 style="font-family:'comic sans ms', sans-serif;"><span
 style="color:#000000;">Afin d'eviter les doublons et de constituer un
 choix de mets varies, SVP remplissez le tableau en suivant le
 lien,</span></span></span></font></span></span></span></span></span></span></span></span></span></span></span></div>
 
 <div><span
 style="font-size:small;"><span style="color:#222222;"><span
 style="font-family:Arial, Helvetica, sans-serif;"><span
 style="font-style:normal;"><span><span
 style="font-weight:400;"><span><span
 style="background-color:#ffffff;"><span><span><span><a
 href="https://docs.google.com/spreadsheets/d/1dGtAV1YXBJxZ8wWGFYRWWzg1hHtsi_lGsxlT_Ccy0Cg/edit?gid=0#gid=0"
 style="color:#1155cc;" target="_blank" rel="noreferrer
 noopener">soiree ANFA du 13/12/2025 -
 Google Sheets</a></span></span></span></span></span></span></span></span></span></span></span></div>
 
 <div> </div>
 
 <div>
 <div
 class="gmail_default"><span style="font-size:small;"><span
 style="color:#222222;"><span style="font-family:Arial, Helvetica,
 sans-serif;"><span style="font-style:normal;"><span><span
 style="font-weight:400;"><span><span
 style="background-color:#ffffff;"><span><span><span><span
 style="font-size:small;"><span style="font-family:'comic sans ms',
 sans-serif;"><span style="color:#000000;">On compte sur
 vous,</span></span></span></span></span></span></span></span></span></span></span></span></span></span></div>
 
 <div
 class="gmail_default"><span style="font-size:small;"><span
 style="color:#222222;"><span style="font-family:Arial, Helvetica,
 sans-serif;"><span style="font-style:normal;"><span><span
 style="font-weight:400;"><span><span
 style="background-color:#ffffff;"><span><span><span><span
 style="font-size:small;"><span style="font-family:'comic sans ms',
 sans-serif;"><span style="color:#000000;">venez
 nombreux!</span></span></span></span></span></span></span></span></span></span></span></span></span></span></div>
 </div>
URL;VALUE=URI:https://www.anfa-aviron.fr/evenements/2025/12/13/samois-assemblee-generale-anfa-2025-2251635
END:VEVENT
END:VCALENDAR
