BEGIN:VCALENDAR
VERSION:2.0
PRODID:-//hacksw/handcal//NONSGML v1.0//EN
BEGIN:VEVENT
SUMMARY:Les AMIS DE L'ATELIER
UID:f5ed192b-812d-413d-a741-bc04e5311c32
DTSTART:20260417T070000Z
DTEND:20260417T100000Z
LOCATION:Localisation   
CATEGORIES:Sportif
STATUS:
URL;VALUE=URI:https://www.anfa-aviron.fr/evenements/2026/04/17/les-amis-de-latelier-2436664
END:VEVENT
END:VCALENDAR
